BEGIN:VCALENDAR
VERSION:2.0
PRODID:-//Obec Kunčina - oficiální stránky obce//NONSGML kigkonsult.se iCal
 creator 2.30.10//
CALSCALE:GREGORIAN
METHOD:PUBLISH
UID:04e37d0b-287e-4a0a-9ea4-53ded83973fc
X-WR-CALNAME:iCagenda
X-WR-CALDESC:Event Management Extension for Joomla!
X-WR-RELCALID:3E26604A-50F4-4449-8B3E-E4F4932D05B5
X-WR-TIMEZONE:Europe/Prague
BEGIN:VTIMEZONE
TZID:Europe/Prague
BEGIN:STANDARD
TZNAME:CET
DTSTART:20261025T030000
TZOFFSETFROM:+0200
TZOFFSETTO:+0100
RDATE:20271031T030000
END:STANDARD
BEGIN:DAYLIGHT
TZNAME:CEST
DTSTART:20260329T020000
TZOFFSETFROM:+0100
TZOFFSETTO:+0200
RDATE:20270328T020000
RDATE:20280326T020000
END:DAYLIGHT
END:VTIMEZONE
BEGIN:VEVENT
UID:0f5fe0fe-a72e-44fe-8ded-b0519245faf1
DTSTAMP:20260419T132442Z
CATEGORIES:Kulturní akce
CLASS:PUBLIC
DESCRIPTION:
DTSTART:20270123T043700Z
DTEND:20270123T150000Z
GEO:+49.794487;+16.627338
LOCATION:Kulturní centrum Kunčina\, Kunčina 229\, 569 24 Kunčina
ORGANIZER:
SEQUENCE:1
SUMMARY:Vepřové hody 2027
TRANSP:OPAQUE
URL:http://vp.obeckuncina.cz/index.php/cs/kalendar-akci/313-veprove-hody-20
 27
END:VEVENT
END:VCALENDAR
