BEGIN:VCALENDAR
VERSION:2.0
PRODID:-//Obec Kunčina - oficiální stránky obce//NONSGML kigkonsult.se iCal
 creator 2.30.10//
CALSCALE:GREGORIAN
METHOD:PUBLISH
UID:8f497ace-a5f6-41f6-909a-4d96e244fc10
X-WR-CALNAME:iCagenda
X-WR-CALDESC:Event Management Extension for Joomla!
X-WR-RELCALID:3E26604A-50F4-4449-8B3E-E4F4932D05B5
X-WR-TIMEZONE:Europe/Prague
BEGIN:VTIMEZONE
TZID:Europe/Prague
BEGIN:STANDARD
TZNAME:CET
DTSTART:20251026T030000
TZOFFSETFROM:+0200
TZOFFSETTO:+0100
RDATE:20261025T030000
RDATE:20271031T030000
END:STANDARD
BEGIN:DAYLIGHT
TZNAME:CEST
DTSTART:20260329T020000
TZOFFSETFROM:+0100
TZOFFSETTO:+0200
RDATE:20270328T020000
END:DAYLIGHT
END:VTIMEZONE
BEGIN:VEVENT
UID:c6452220-3acd-423e-b4c1-037b13a864e2
DTSTAMP:20260419T133015Z
CATEGORIES:Kulturní akce
CLASS:PUBLIC
DESCRIPTION:
DTSTART:20260620T060500Z
DTEND:20260620T215900Z
GEO:+49.794552;+16.627632
LOCATION:Sportovní areál Kunčina
ORGANIZER:
SEQUENCE:1
SUMMARY:Obecní slavnosti 2026
TRANSP:OPAQUE
URL:http://vp.obeckuncina.cz/index.php/cs/kalendar-akci/310-obecni-slavnost
 i-2026
END:VEVENT
END:VCALENDAR
